BEGIN:VCALENDAR
VERSION:2.0
PRODID:-//Calendrier - Municipalité Régionale de Tracadie - ECPv6.15.20//NONSGML v1.0//EN
CALSCALE:GREGORIAN
METHOD:PUBLISH
X-WR-CALNAME:Calendrier - Municipalité Régionale de Tracadie
X-ORIGINAL-URL:https://calendrier.tracadienb.ca
X-WR-CALDESC:Évènements pour Calendrier - Municipalité Régionale de Tracadie
REFRESH-INTERVAL;VALUE=DURATION:PT1H
X-Robots-Tag:noindex
X-PUBLISHED-TTL:PT1H
BEGIN:VTIMEZONE
TZID:America/Moncton
BEGIN:DAYLIGHT
TZOFFSETFROM:-0400
TZOFFSETTO:-0300
TZNAME:ADT
DTSTART:20240310T060000
END:DAYLIGHT
BEGIN:STANDARD
TZOFFSETFROM:-0300
TZOFFSETTO:-0400
TZNAME:AST
DTSTART:20241103T050000
END:STANDARD
BEGIN:DAYLIGHT
TZOFFSETFROM:-0400
TZOFFSETTO:-0300
TZNAME:ADT
DTSTART:20250309T060000
END:DAYLIGHT
BEGIN:STANDARD
TZOFFSETFROM:-0300
TZOFFSETTO:-0400
TZNAME:AST
DTSTART:20251102T050000
END:STANDARD
BEGIN:DAYLIGHT
TZOFFSETFROM:-0400
TZOFFSETTO:-0300
TZNAME:ADT
DTSTART:20260308T060000
END:DAYLIGHT
BEGIN:STANDARD
TZOFFSETFROM:-0300
TZOFFSETTO:-0400
TZNAME:AST
DTSTART:20261101T050000
END:STANDARD
END:VTIMEZONE
BEGIN:VEVENT
DTSTART;TZID=America/Moncton:20251213T183000
DTEND;TZID=America/Moncton:20251213T193000
DTSTAMP:20260424T080454
CREATED:20251117T150700Z
LAST-MODIFIED:20251117T150700Z
UID:1492-1765650600-1765654200@calendrier.tracadienb.ca
SUMMARY:Parade de Noël - Tracadie
DESCRIPTION: HO HO HO! Le Père Noël arrive à Tracadie! \n\nLe 13 décembre\, c’est un rendez-vous sur la Rue Principale\, de la bibliothèque jusqu’à la rue Snowball\, pour la tant attendue Parade de Noël!\nNous invitons tous les citoyens et les entreprises à participer à la magie en inscrivant leur voiture allégorique dès maintenant à l’adresse suivante : stephanie.sonier@tracadienb.ca\n\nVenez célébrer l’esprit des Fêtes avec nous!
URL:https://calendrier.tracadienb.ca/evenement/parade-de-noel-tracadie/
CATEGORIES:Activités
ATTACH;FMTTYPE=image/png:https://calendrier.tracadienb.ca/wp-content/uploads/Parade-de-Noel-scaled.png
ORGANIZER;CN="%C3%89v%C3%A9nement Tracadie":MAILTO:info@tracadienb.ca
END:VEVENT
END:VCALENDAR