BEGIN:VCALENDAR
VERSION:2.0
PRODID:-//Calendrier - Municipalité Régionale de Tracadie - ECPv6.15.20//NONSGML v1.0//EN
CALSCALE:GREGORIAN
METHOD:PUBLISH
X-WR-CALNAME:Calendrier - Municipalité Régionale de Tracadie
X-ORIGINAL-URL:https://calendrier.tracadienb.ca
X-WR-CALDESC:Évènements pour Calendrier - Municipalité Régionale de Tracadie
REFRESH-INTERVAL;VALUE=DURATION:PT1H
X-Robots-Tag:noindex
X-PUBLISHED-TTL:PT1H
BEGIN:VTIMEZONE
TZID:America/Moncton
BEGIN:DAYLIGHT
TZOFFSETFROM:-0400
TZOFFSETTO:-0300
TZNAME:ADT
DTSTART:20250309T060000
END:DAYLIGHT
BEGIN:STANDARD
TZOFFSETFROM:-0300
TZOFFSETTO:-0400
TZNAME:AST
DTSTART:20251102T050000
END:STANDARD
BEGIN:DAYLIGHT
TZOFFSETFROM:-0400
TZOFFSETTO:-0300
TZNAME:ADT
DTSTART:20260308T060000
END:DAYLIGHT
BEGIN:STANDARD
TZOFFSETFROM:-0300
TZOFFSETTO:-0400
TZNAME:AST
DTSTART:20261101T050000
END:STANDARD
BEGIN:DAYLIGHT
TZOFFSETFROM:-0400
TZOFFSETTO:-0300
TZNAME:ADT
DTSTART:20270314T060000
END:DAYLIGHT
BEGIN:STANDARD
TZOFFSETFROM:-0300
TZOFFSETTO:-0400
TZNAME:AST
DTSTART:20271107T050000
END:STANDARD
END:VTIMEZONE
BEGIN:VEVENT
DTSTART;VALUE=DATE:20260425
DTEND;VALUE=DATE:20260426
DTSTAMP:20260425T141025
CREATED:20251215T173614Z
LAST-MODIFIED:20251215T174355Z
UID:10002920-1777075200-1777161599@calendrier.tracadienb.ca
SUMMARY:Activités gratuites sur patinoire extérieure
DESCRIPTION:Toutes les activités sont gratuites pour la saison 2025-2026 à la patinoire extérieure de Haut-Rivière-du-Portage. \n\n\nPatinage libre : tous les jours de 17 h à 19 h \n\n\nHockey libre : tous les jours de 12 h à 17 h et de 19 h à 21 h \n\n\nBallon sur glace : tous les mercredis de 19 h à 21 h (13 ans et +) \n\n\nAccès à la piste (marche/course) : animaux acceptés\, tous les jours \n\n\nAccès au parc de jeux : tous les jours \n\n\nImportant : veuillez vérifier la page Facebook pour connaître l’état de la glace. Une mise à jour est publiée quotidiennement. \nIl est également possible de louer la glace et le bâtiment pour des activités privées au coût de 30 $/heure (hiver) et 15 $/heure (été).👉 Contact : Maggie Hachey au 888-9564
URL:https://calendrier.tracadienb.ca/evenement/activites-gratuites-sur-patinoire-exterieure/2026-04-25/
LOCATION:Conseil récréatif de Haut-Rivière-du-Portage\, 82 Rivière-du-Portage Sud\, Haut-Rivière-du-Portage\, NB\, E9H2A5\, Canada
CATEGORIES:Activités,Organismes communautaires,Sports
ATTACH;FMTTYPE=image/jpeg:https://calendrier.tracadienb.ca/wp-content/uploads/693b0a4008096.jpg
ORGANIZER;CN="%C3%89v%C3%A9nement Tracadie":MAILTO:info@tracadienb.ca
END:VEVENT
BEGIN:VEVENT
DTSTART;TZID=America/Moncton:20260425T093000
DTEND;TZID=America/Moncton:20260425T123000
DTSTAMP:20260425T141025
CREATED:20260127T172338Z
LAST-MODIFIED:20260127T172338Z
UID:10007124-1777109400-1777120200@calendrier.tracadienb.ca
SUMMARY:Tournoi amical d'échecs du Tazza Caffe Tracadie
DESCRIPTION:Le tournoi amical d’échecs est échelonné sur les 7 prochains fins de semaine débutant le 24 – 25 janv\, 31 janvier et 01 fev\, 7 et 8 fév\, 14 et 15 fév\, 21 et 22 fév\, 28 fév et 01 mars. \nLa semi finale aura lieu le 7 mars et la finale le 8 mars 2026. \nLes places sont limitées\, inscription requise à l’avance : tournoiamicalechecs@tazzacaffe.ca \nNous vous demandons de vous présenter au Tazza caffe de Tracadie entre 9:30 et 9:45 am pour chaque samedi et dimanche matin au 2e plancher pour que les parties puissent débuter à 10h et se terminer à 12:30 pm. \nNous tenons a vous rappeler que le but de ce tournoi est de s’amuser et de déclencher un intérêt pour les échecs et de créé un environnement social dans les différents groupes d’âges au sein du Tazza caffe et du cinéma. \nLe pointage ne sera pas pris en considération pour l’instant\, le futur nous le dictera s’il y a besoin alors\,simplement le vainqueur de la partie sera retenu pour la 1ere place et de son adversaire pour la 2e place. Il y a la possibilité de jouer sur d’autres tables avec ceux qui ne veulent pas s’inscrire au tournoi\, mais qui désir jouer ou apprendre à jouer. \n\nGroupes d’âge\n12 ans et moins\n13 à 18 ans\n19 ans et plus.
URL:https://calendrier.tracadienb.ca/evenement/tournoi-amical-dechecs-du-tazza-caffe-tracadie/2026-04-25/
LOCATION:Tazza Caffe\, 3323 Rue de la Rive\, Tracadie-Sheila\, NB\, E1X 1A4\, Canada
CATEGORIES:Activités
ATTACH;FMTTYPE=image/png:https://calendrier.tracadienb.ca/wp-content/uploads/Jeu-dechec-scaled.png
END:VEVENT
BEGIN:VEVENT
DTSTART;TZID=America/Moncton:20260425T100000
DTEND;TZID=America/Moncton:20260425T135500
DTSTAMP:20260425T141025
CREATED:20260109T182017Z
LAST-MODIFIED:20260109T182017Z
UID:10005874-1777111200-1777125300@calendrier.tracadienb.ca
SUMMARY:Cours de natation - Piscine
DESCRIPTION:Plusieurs cours de natation s’offrent à vous pour apprendre à nager et développer vos habiletés aquatiques. \nPour plus d’information\, communiquez au 506-394-4016 \n  \nConsulter la programmation régulière complète ici.
URL:https://calendrier.tracadienb.ca/evenement/cours-de-natation-piscine-3/2026-04-25/
LOCATION:Piscine du Complexe Rév. S.A. Dionne\, 4216 rue Hall\, Tracadie\, Nouveau-Brunswick\, E1X 1B9\, Canada
CATEGORIES:Piscine
ATTACH;FMTTYPE=image/png:https://calendrier.tracadienb.ca/wp-content/uploads/Bain-libre-scaled.png
ORGANIZER;CN="%C3%89v%C3%A9nement Tracadie":MAILTO:info@tracadienb.ca
END:VEVENT
BEGIN:VEVENT
DTSTART;TZID=America/Moncton:20260425T143000
DTEND;TZID=America/Moncton:20260425T155500
DTSTAMP:20260425T141025
CREATED:20260109T183402Z
LAST-MODIFIED:20260109T183402Z
UID:10006489-1777127400-1777132500@calendrier.tracadienb.ca
SUMMARY:Bain libre - Piscine
DESCRIPTION:Le bain libre vous permet de profiter de la piscine à votre façon\, selon votre rythme et vos envies. \nPour plus d’information\, communiquez au 506-394-4016 \nConsulter la programmation régulière complète ici.
URL:https://calendrier.tracadienb.ca/evenement/bain-libre-piscine-6/2026-04-25/
LOCATION:Piscine du Complexe Rév. S.A. Dionne\, 4216 rue Hall\, Tracadie\, Nouveau-Brunswick\, E1X 1B9\, Canada
CATEGORIES:Piscine
ATTACH;FMTTYPE=image/png:https://calendrier.tracadienb.ca/wp-content/uploads/Cours-de-natation-scaled.png
ORGANIZER;CN="%C3%89v%C3%A9nement Tracadie":MAILTO:info@tracadienb.ca
END:VEVENT
BEGIN:VEVENT
DTSTART;TZID=America/Moncton:20260425T183000
DTEND;TZID=America/Moncton:20260425T202500
DTSTAMP:20260425T141025
CREATED:20260109T183753Z
LAST-MODIFIED:20260109T183753Z
UID:10006566-1777141800-1777148700@calendrier.tracadienb.ca
SUMMARY:Bain libre - Piscine
DESCRIPTION:Le bain libre vous permet de profiter de la piscine à votre façon\, selon votre rythme et vos envies. \nPour plus d’information\, communiquez au 506-394-4016 \nConsulter la programmation régulière complète ici.
URL:https://calendrier.tracadienb.ca/evenement/bain-libre-piscine-7/2026-04-25/
LOCATION:Piscine du Complexe Rév. S.A. Dionne\, 4216 rue Hall\, Tracadie\, Nouveau-Brunswick\, E1X 1B9\, Canada
CATEGORIES:Piscine
ATTACH;FMTTYPE=image/png:https://calendrier.tracadienb.ca/wp-content/uploads/Cours-de-natation-scaled.png
ORGANIZER;CN="%C3%89v%C3%A9nement Tracadie":MAILTO:info@tracadienb.ca
END:VEVENT
END:VCALENDAR