BEGIN:VCALENDAR
VERSION:2.0
PRODID:-//Calendrier - Municipalité Régionale de Tracadie - ECPv6.15.20//NONSGML v1.0//EN
CALSCALE:GREGORIAN
METHOD:PUBLISH
X-WR-CALNAME:Calendrier - Municipalité Régionale de Tracadie
X-ORIGINAL-URL:https://calendrier.tracadienb.ca
X-WR-CALDESC:Évènements pour Calendrier - Municipalité Régionale de Tracadie
REFRESH-INTERVAL;VALUE=DURATION:PT1H
X-Robots-Tag:noindex
X-PUBLISHED-TTL:PT1H
BEGIN:VTIMEZONE
TZID:America/Moncton
BEGIN:DAYLIGHT
TZOFFSETFROM:-0400
TZOFFSETTO:-0300
TZNAME:ADT
DTSTART:20250309T060000
END:DAYLIGHT
BEGIN:STANDARD
TZOFFSETFROM:-0300
TZOFFSETTO:-0400
TZNAME:AST
DTSTART:20251102T050000
END:STANDARD
BEGIN:DAYLIGHT
TZOFFSETFROM:-0400
TZOFFSETTO:-0300
TZNAME:ADT
DTSTART:20260308T060000
END:DAYLIGHT
BEGIN:STANDARD
TZOFFSETFROM:-0300
TZOFFSETTO:-0400
TZNAME:AST
DTSTART:20261101T050000
END:STANDARD
BEGIN:DAYLIGHT
TZOFFSETFROM:-0400
TZOFFSETTO:-0300
TZNAME:ADT
DTSTART:20270314T060000
END:DAYLIGHT
BEGIN:STANDARD
TZOFFSETFROM:-0300
TZOFFSETTO:-0400
TZNAME:AST
DTSTART:20271107T050000
END:STANDARD
END:VTIMEZONE
BEGIN:VEVENT
DTSTART;TZID=America/Moncton:20260427T140000
DTEND;TZID=America/Moncton:20260427T152500
DTSTAMP:20260425T144202
CREATED:20260109T182707Z
LAST-MODIFIED:20260109T182707Z
UID:10006028-1777298400-1777303500@calendrier.tracadienb.ca
SUMMARY:Bain libre - Piscine
DESCRIPTION:Le bain libre vous permet de profiter de la piscine à votre façon\, selon votre rythme et vos envies. \nPour plus d’information\, communiquez au 506-394-4016 \nConsulter la programmation régulière complète ici.
URL:https://calendrier.tracadienb.ca/evenement/bain-libre-piscine/2026-04-27/
LOCATION:Piscine du Complexe Rév. S.A. Dionne\, 4216 rue Hall\, Tracadie\, Nouveau-Brunswick\, E1X 1B9\, Canada
CATEGORIES:Piscine
ATTACH;FMTTYPE=image/png:https://calendrier.tracadienb.ca/wp-content/uploads/Cours-de-natation-scaled.png
ORGANIZER;CN="%C3%89v%C3%A9nement Tracadie":MAILTO:info@tracadienb.ca
END:VEVENT
BEGIN:VEVENT
DTSTART;TZID=America/Moncton:20260504T140000
DTEND;TZID=America/Moncton:20260504T152500
DTSTAMP:20260425T144202
CREATED:20260109T182707Z
LAST-MODIFIED:20260109T182707Z
UID:10006029-1777903200-1777908300@calendrier.tracadienb.ca
SUMMARY:Bain libre - Piscine
DESCRIPTION:Le bain libre vous permet de profiter de la piscine à votre façon\, selon votre rythme et vos envies. \nPour plus d’information\, communiquez au 506-394-4016 \nConsulter la programmation régulière complète ici.
URL:https://calendrier.tracadienb.ca/evenement/bain-libre-piscine/2026-05-04/
LOCATION:Piscine du Complexe Rév. S.A. Dionne\, 4216 rue Hall\, Tracadie\, Nouveau-Brunswick\, E1X 1B9\, Canada
CATEGORIES:Piscine
ATTACH;FMTTYPE=image/png:https://calendrier.tracadienb.ca/wp-content/uploads/Cours-de-natation-scaled.png
ORGANIZER;CN="%C3%89v%C3%A9nement Tracadie":MAILTO:info@tracadienb.ca
END:VEVENT
BEGIN:VEVENT
DTSTART;TZID=America/Moncton:20260511T140000
DTEND;TZID=America/Moncton:20260511T152500
DTSTAMP:20260425T144202
CREATED:20260109T182707Z
LAST-MODIFIED:20260109T182707Z
UID:10006030-1778508000-1778513100@calendrier.tracadienb.ca
SUMMARY:Bain libre - Piscine
DESCRIPTION:Le bain libre vous permet de profiter de la piscine à votre façon\, selon votre rythme et vos envies. \nPour plus d’information\, communiquez au 506-394-4016 \nConsulter la programmation régulière complète ici.
URL:https://calendrier.tracadienb.ca/evenement/bain-libre-piscine/2026-05-11/
LOCATION:Piscine du Complexe Rév. S.A. Dionne\, 4216 rue Hall\, Tracadie\, Nouveau-Brunswick\, E1X 1B9\, Canada
CATEGORIES:Piscine
ATTACH;FMTTYPE=image/png:https://calendrier.tracadienb.ca/wp-content/uploads/Cours-de-natation-scaled.png
ORGANIZER;CN="%C3%89v%C3%A9nement Tracadie":MAILTO:info@tracadienb.ca
END:VEVENT
BEGIN:VEVENT
DTSTART;TZID=America/Moncton:20260518T140000
DTEND;TZID=America/Moncton:20260518T152500
DTSTAMP:20260425T144202
CREATED:20260109T182707Z
LAST-MODIFIED:20260109T182707Z
UID:10006031-1779112800-1779117900@calendrier.tracadienb.ca
SUMMARY:Bain libre - Piscine
DESCRIPTION:Le bain libre vous permet de profiter de la piscine à votre façon\, selon votre rythme et vos envies. \nPour plus d’information\, communiquez au 506-394-4016 \nConsulter la programmation régulière complète ici.
URL:https://calendrier.tracadienb.ca/evenement/bain-libre-piscine/2026-05-18/
LOCATION:Piscine du Complexe Rév. S.A. Dionne\, 4216 rue Hall\, Tracadie\, Nouveau-Brunswick\, E1X 1B9\, Canada
CATEGORIES:Piscine
ATTACH;FMTTYPE=image/png:https://calendrier.tracadienb.ca/wp-content/uploads/Cours-de-natation-scaled.png
ORGANIZER;CN="%C3%89v%C3%A9nement Tracadie":MAILTO:info@tracadienb.ca
END:VEVENT
BEGIN:VEVENT
DTSTART;TZID=America/Moncton:20260525T140000
DTEND;TZID=America/Moncton:20260525T152500
DTSTAMP:20260425T144202
CREATED:20260109T182707Z
LAST-MODIFIED:20260109T182707Z
UID:10006032-1779717600-1779722700@calendrier.tracadienb.ca
SUMMARY:Bain libre - Piscine
DESCRIPTION:Le bain libre vous permet de profiter de la piscine à votre façon\, selon votre rythme et vos envies. \nPour plus d’information\, communiquez au 506-394-4016 \nConsulter la programmation régulière complète ici.
URL:https://calendrier.tracadienb.ca/evenement/bain-libre-piscine/2026-05-25/
LOCATION:Piscine du Complexe Rév. S.A. Dionne\, 4216 rue Hall\, Tracadie\, Nouveau-Brunswick\, E1X 1B9\, Canada
CATEGORIES:Piscine
ATTACH;FMTTYPE=image/png:https://calendrier.tracadienb.ca/wp-content/uploads/Cours-de-natation-scaled.png
ORGANIZER;CN="%C3%89v%C3%A9nement Tracadie":MAILTO:info@tracadienb.ca
END:VEVENT
BEGIN:VEVENT
DTSTART;TZID=America/Moncton:20260601T140000
DTEND;TZID=America/Moncton:20260601T152500
DTSTAMP:20260425T144202
CREATED:20260109T182707Z
LAST-MODIFIED:20260109T182707Z
UID:10006033-1780322400-1780327500@calendrier.tracadienb.ca
SUMMARY:Bain libre - Piscine
DESCRIPTION:Le bain libre vous permet de profiter de la piscine à votre façon\, selon votre rythme et vos envies. \nPour plus d’information\, communiquez au 506-394-4016 \nConsulter la programmation régulière complète ici.
URL:https://calendrier.tracadienb.ca/evenement/bain-libre-piscine/2026-06-01/
LOCATION:Piscine du Complexe Rév. S.A. Dionne\, 4216 rue Hall\, Tracadie\, Nouveau-Brunswick\, E1X 1B9\, Canada
CATEGORIES:Piscine
ATTACH;FMTTYPE=image/png:https://calendrier.tracadienb.ca/wp-content/uploads/Cours-de-natation-scaled.png
ORGANIZER;CN="%C3%89v%C3%A9nement Tracadie":MAILTO:info@tracadienb.ca
END:VEVENT
BEGIN:VEVENT
DTSTART;TZID=America/Moncton:20260608T140000
DTEND;TZID=America/Moncton:20260608T152500
DTSTAMP:20260425T144202
CREATED:20260109T182707Z
LAST-MODIFIED:20260109T182707Z
UID:10006034-1780927200-1780932300@calendrier.tracadienb.ca
SUMMARY:Bain libre - Piscine
DESCRIPTION:Le bain libre vous permet de profiter de la piscine à votre façon\, selon votre rythme et vos envies. \nPour plus d’information\, communiquez au 506-394-4016 \nConsulter la programmation régulière complète ici.
URL:https://calendrier.tracadienb.ca/evenement/bain-libre-piscine/2026-06-08/
LOCATION:Piscine du Complexe Rév. S.A. Dionne\, 4216 rue Hall\, Tracadie\, Nouveau-Brunswick\, E1X 1B9\, Canada
CATEGORIES:Piscine
ATTACH;FMTTYPE=image/png:https://calendrier.tracadienb.ca/wp-content/uploads/Cours-de-natation-scaled.png
ORGANIZER;CN="%C3%89v%C3%A9nement Tracadie":MAILTO:info@tracadienb.ca
END:VEVENT
BEGIN:VEVENT
DTSTART;TZID=America/Moncton:20260615T140000
DTEND;TZID=America/Moncton:20260615T152500
DTSTAMP:20260425T144202
CREATED:20260109T182707Z
LAST-MODIFIED:20260109T182707Z
UID:10006035-1781532000-1781537100@calendrier.tracadienb.ca
SUMMARY:Bain libre - Piscine
DESCRIPTION:Le bain libre vous permet de profiter de la piscine à votre façon\, selon votre rythme et vos envies. \nPour plus d’information\, communiquez au 506-394-4016 \nConsulter la programmation régulière complète ici.
URL:https://calendrier.tracadienb.ca/evenement/bain-libre-piscine/2026-06-15/
LOCATION:Piscine du Complexe Rév. S.A. Dionne\, 4216 rue Hall\, Tracadie\, Nouveau-Brunswick\, E1X 1B9\, Canada
CATEGORIES:Piscine
ATTACH;FMTTYPE=image/png:https://calendrier.tracadienb.ca/wp-content/uploads/Cours-de-natation-scaled.png
ORGANIZER;CN="%C3%89v%C3%A9nement Tracadie":MAILTO:info@tracadienb.ca
END:VEVENT
BEGIN:VEVENT
DTSTART;TZID=America/Moncton:20260622T140000
DTEND;TZID=America/Moncton:20260622T152500
DTSTAMP:20260425T144202
CREATED:20260109T182707Z
LAST-MODIFIED:20260109T182707Z
UID:10006036-1782136800-1782141900@calendrier.tracadienb.ca
SUMMARY:Bain libre - Piscine
DESCRIPTION:Le bain libre vous permet de profiter de la piscine à votre façon\, selon votre rythme et vos envies. \nPour plus d’information\, communiquez au 506-394-4016 \nConsulter la programmation régulière complète ici.
URL:https://calendrier.tracadienb.ca/evenement/bain-libre-piscine/2026-06-22/
LOCATION:Piscine du Complexe Rév. S.A. Dionne\, 4216 rue Hall\, Tracadie\, Nouveau-Brunswick\, E1X 1B9\, Canada
CATEGORIES:Piscine
ATTACH;FMTTYPE=image/png:https://calendrier.tracadienb.ca/wp-content/uploads/Cours-de-natation-scaled.png
ORGANIZER;CN="%C3%89v%C3%A9nement Tracadie":MAILTO:info@tracadienb.ca
END:VEVENT
BEGIN:VEVENT
DTSTART;TZID=America/Moncton:20260629T140000
DTEND;TZID=America/Moncton:20260629T152500
DTSTAMP:20260425T144202
CREATED:20260109T182707Z
LAST-MODIFIED:20260109T182707Z
UID:10006037-1782741600-1782746700@calendrier.tracadienb.ca
SUMMARY:Bain libre - Piscine
DESCRIPTION:Le bain libre vous permet de profiter de la piscine à votre façon\, selon votre rythme et vos envies. \nPour plus d’information\, communiquez au 506-394-4016 \nConsulter la programmation régulière complète ici.
URL:https://calendrier.tracadienb.ca/evenement/bain-libre-piscine/2026-06-29/
LOCATION:Piscine du Complexe Rév. S.A. Dionne\, 4216 rue Hall\, Tracadie\, Nouveau-Brunswick\, E1X 1B9\, Canada
CATEGORIES:Piscine
ATTACH;FMTTYPE=image/png:https://calendrier.tracadienb.ca/wp-content/uploads/Cours-de-natation-scaled.png
ORGANIZER;CN="%C3%89v%C3%A9nement Tracadie":MAILTO:info@tracadienb.ca
END:VEVENT
BEGIN:VEVENT
DTSTART;TZID=America/Moncton:20260706T140000
DTEND;TZID=America/Moncton:20260706T152500
DTSTAMP:20260425T144202
CREATED:20260109T182707Z
LAST-MODIFIED:20260109T182707Z
UID:10006038-1783346400-1783351500@calendrier.tracadienb.ca
SUMMARY:Bain libre - Piscine
DESCRIPTION:Le bain libre vous permet de profiter de la piscine à votre façon\, selon votre rythme et vos envies. \nPour plus d’information\, communiquez au 506-394-4016 \nConsulter la programmation régulière complète ici.
URL:https://calendrier.tracadienb.ca/evenement/bain-libre-piscine/2026-07-06/
LOCATION:Piscine du Complexe Rév. S.A. Dionne\, 4216 rue Hall\, Tracadie\, Nouveau-Brunswick\, E1X 1B9\, Canada
CATEGORIES:Piscine
ATTACH;FMTTYPE=image/png:https://calendrier.tracadienb.ca/wp-content/uploads/Cours-de-natation-scaled.png
ORGANIZER;CN="%C3%89v%C3%A9nement Tracadie":MAILTO:info@tracadienb.ca
END:VEVENT
BEGIN:VEVENT
DTSTART;TZID=America/Moncton:20260713T140000
DTEND;TZID=America/Moncton:20260713T152500
DTSTAMP:20260425T144202
CREATED:20260109T182707Z
LAST-MODIFIED:20260109T182707Z
UID:10006039-1783951200-1783956300@calendrier.tracadienb.ca
SUMMARY:Bain libre - Piscine
DESCRIPTION:Le bain libre vous permet de profiter de la piscine à votre façon\, selon votre rythme et vos envies. \nPour plus d’information\, communiquez au 506-394-4016 \nConsulter la programmation régulière complète ici.
URL:https://calendrier.tracadienb.ca/evenement/bain-libre-piscine/2026-07-13/
LOCATION:Piscine du Complexe Rév. S.A. Dionne\, 4216 rue Hall\, Tracadie\, Nouveau-Brunswick\, E1X 1B9\, Canada
CATEGORIES:Piscine
ATTACH;FMTTYPE=image/png:https://calendrier.tracadienb.ca/wp-content/uploads/Cours-de-natation-scaled.png
ORGANIZER;CN="%C3%89v%C3%A9nement Tracadie":MAILTO:info@tracadienb.ca
END:VEVENT
BEGIN:VEVENT
DTSTART;TZID=America/Moncton:20260720T140000
DTEND;TZID=America/Moncton:20260720T152500
DTSTAMP:20260425T144202
CREATED:20260109T182707Z
LAST-MODIFIED:20260109T182707Z
UID:10006040-1784556000-1784561100@calendrier.tracadienb.ca
SUMMARY:Bain libre - Piscine
DESCRIPTION:Le bain libre vous permet de profiter de la piscine à votre façon\, selon votre rythme et vos envies. \nPour plus d’information\, communiquez au 506-394-4016 \nConsulter la programmation régulière complète ici.
URL:https://calendrier.tracadienb.ca/evenement/bain-libre-piscine/2026-07-20/
LOCATION:Piscine du Complexe Rév. S.A. Dionne\, 4216 rue Hall\, Tracadie\, Nouveau-Brunswick\, E1X 1B9\, Canada
CATEGORIES:Piscine
ATTACH;FMTTYPE=image/png:https://calendrier.tracadienb.ca/wp-content/uploads/Cours-de-natation-scaled.png
ORGANIZER;CN="%C3%89v%C3%A9nement Tracadie":MAILTO:info@tracadienb.ca
END:VEVENT
BEGIN:VEVENT
DTSTART;TZID=America/Moncton:20260727T140000
DTEND;TZID=America/Moncton:20260727T152500
DTSTAMP:20260425T144202
CREATED:20260109T182707Z
LAST-MODIFIED:20260109T182707Z
UID:10006041-1785160800-1785165900@calendrier.tracadienb.ca
SUMMARY:Bain libre - Piscine
DESCRIPTION:Le bain libre vous permet de profiter de la piscine à votre façon\, selon votre rythme et vos envies. \nPour plus d’information\, communiquez au 506-394-4016 \nConsulter la programmation régulière complète ici.
URL:https://calendrier.tracadienb.ca/evenement/bain-libre-piscine/2026-07-27/
LOCATION:Piscine du Complexe Rév. S.A. Dionne\, 4216 rue Hall\, Tracadie\, Nouveau-Brunswick\, E1X 1B9\, Canada
CATEGORIES:Piscine
ATTACH;FMTTYPE=image/png:https://calendrier.tracadienb.ca/wp-content/uploads/Cours-de-natation-scaled.png
ORGANIZER;CN="%C3%89v%C3%A9nement Tracadie":MAILTO:info@tracadienb.ca
END:VEVENT
BEGIN:VEVENT
DTSTART;TZID=America/Moncton:20260803T140000
DTEND;TZID=America/Moncton:20260803T152500
DTSTAMP:20260425T144202
CREATED:20260109T182707Z
LAST-MODIFIED:20260109T182707Z
UID:10006042-1785765600-1785770700@calendrier.tracadienb.ca
SUMMARY:Bain libre - Piscine
DESCRIPTION:Le bain libre vous permet de profiter de la piscine à votre façon\, selon votre rythme et vos envies. \nPour plus d’information\, communiquez au 506-394-4016 \nConsulter la programmation régulière complète ici.
URL:https://calendrier.tracadienb.ca/evenement/bain-libre-piscine/2026-08-03/
LOCATION:Piscine du Complexe Rév. S.A. Dionne\, 4216 rue Hall\, Tracadie\, Nouveau-Brunswick\, E1X 1B9\, Canada
CATEGORIES:Piscine
ATTACH;FMTTYPE=image/png:https://calendrier.tracadienb.ca/wp-content/uploads/Cours-de-natation-scaled.png
ORGANIZER;CN="%C3%89v%C3%A9nement Tracadie":MAILTO:info@tracadienb.ca
END:VEVENT
BEGIN:VEVENT
DTSTART;TZID=America/Moncton:20260810T140000
DTEND;TZID=America/Moncton:20260810T152500
DTSTAMP:20260425T144202
CREATED:20260109T182707Z
LAST-MODIFIED:20260109T182707Z
UID:10006043-1786370400-1786375500@calendrier.tracadienb.ca
SUMMARY:Bain libre - Piscine
DESCRIPTION:Le bain libre vous permet de profiter de la piscine à votre façon\, selon votre rythme et vos envies. \nPour plus d’information\, communiquez au 506-394-4016 \nConsulter la programmation régulière complète ici.
URL:https://calendrier.tracadienb.ca/evenement/bain-libre-piscine/2026-08-10/
LOCATION:Piscine du Complexe Rév. S.A. Dionne\, 4216 rue Hall\, Tracadie\, Nouveau-Brunswick\, E1X 1B9\, Canada
CATEGORIES:Piscine
ATTACH;FMTTYPE=image/png:https://calendrier.tracadienb.ca/wp-content/uploads/Cours-de-natation-scaled.png
ORGANIZER;CN="%C3%89v%C3%A9nement Tracadie":MAILTO:info@tracadienb.ca
END:VEVENT
BEGIN:VEVENT
DTSTART;TZID=America/Moncton:20260817T140000
DTEND;TZID=America/Moncton:20260817T152500
DTSTAMP:20260425T144202
CREATED:20260109T182707Z
LAST-MODIFIED:20260109T182707Z
UID:10006044-1786975200-1786980300@calendrier.tracadienb.ca
SUMMARY:Bain libre - Piscine
DESCRIPTION:Le bain libre vous permet de profiter de la piscine à votre façon\, selon votre rythme et vos envies. \nPour plus d’information\, communiquez au 506-394-4016 \nConsulter la programmation régulière complète ici.
URL:https://calendrier.tracadienb.ca/evenement/bain-libre-piscine/2026-08-17/
LOCATION:Piscine du Complexe Rév. S.A. Dionne\, 4216 rue Hall\, Tracadie\, Nouveau-Brunswick\, E1X 1B9\, Canada
CATEGORIES:Piscine
ATTACH;FMTTYPE=image/png:https://calendrier.tracadienb.ca/wp-content/uploads/Cours-de-natation-scaled.png
ORGANIZER;CN="%C3%89v%C3%A9nement Tracadie":MAILTO:info@tracadienb.ca
END:VEVENT
BEGIN:VEVENT
DTSTART;TZID=America/Moncton:20260824T140000
DTEND;TZID=America/Moncton:20260824T152500
DTSTAMP:20260425T144202
CREATED:20260109T182707Z
LAST-MODIFIED:20260109T182707Z
UID:10006045-1787580000-1787585100@calendrier.tracadienb.ca
SUMMARY:Bain libre - Piscine
DESCRIPTION:Le bain libre vous permet de profiter de la piscine à votre façon\, selon votre rythme et vos envies. \nPour plus d’information\, communiquez au 506-394-4016 \nConsulter la programmation régulière complète ici.
URL:https://calendrier.tracadienb.ca/evenement/bain-libre-piscine/2026-08-24/
LOCATION:Piscine du Complexe Rév. S.A. Dionne\, 4216 rue Hall\, Tracadie\, Nouveau-Brunswick\, E1X 1B9\, Canada
CATEGORIES:Piscine
ATTACH;FMTTYPE=image/png:https://calendrier.tracadienb.ca/wp-content/uploads/Cours-de-natation-scaled.png
ORGANIZER;CN="%C3%89v%C3%A9nement Tracadie":MAILTO:info@tracadienb.ca
END:VEVENT
BEGIN:VEVENT
DTSTART;TZID=America/Moncton:20260831T140000
DTEND;TZID=America/Moncton:20260831T152500
DTSTAMP:20260425T144202
CREATED:20260109T182707Z
LAST-MODIFIED:20260109T182707Z
UID:10006046-1788184800-1788189900@calendrier.tracadienb.ca
SUMMARY:Bain libre - Piscine
DESCRIPTION:Le bain libre vous permet de profiter de la piscine à votre façon\, selon votre rythme et vos envies. \nPour plus d’information\, communiquez au 506-394-4016 \nConsulter la programmation régulière complète ici.
URL:https://calendrier.tracadienb.ca/evenement/bain-libre-piscine/2026-08-31/
LOCATION:Piscine du Complexe Rév. S.A. Dionne\, 4216 rue Hall\, Tracadie\, Nouveau-Brunswick\, E1X 1B9\, Canada
CATEGORIES:Piscine
ATTACH;FMTTYPE=image/png:https://calendrier.tracadienb.ca/wp-content/uploads/Cours-de-natation-scaled.png
ORGANIZER;CN="%C3%89v%C3%A9nement Tracadie":MAILTO:info@tracadienb.ca
END:VEVENT
BEGIN:VEVENT
DTSTART;TZID=America/Moncton:20260907T140000
DTEND;TZID=America/Moncton:20260907T152500
DTSTAMP:20260425T144202
CREATED:20260109T182707Z
LAST-MODIFIED:20260109T182707Z
UID:10006047-1788789600-1788794700@calendrier.tracadienb.ca
SUMMARY:Bain libre - Piscine
DESCRIPTION:Le bain libre vous permet de profiter de la piscine à votre façon\, selon votre rythme et vos envies. \nPour plus d’information\, communiquez au 506-394-4016 \nConsulter la programmation régulière complète ici.
URL:https://calendrier.tracadienb.ca/evenement/bain-libre-piscine/2026-09-07/
LOCATION:Piscine du Complexe Rév. S.A. Dionne\, 4216 rue Hall\, Tracadie\, Nouveau-Brunswick\, E1X 1B9\, Canada
CATEGORIES:Piscine
ATTACH;FMTTYPE=image/png:https://calendrier.tracadienb.ca/wp-content/uploads/Cours-de-natation-scaled.png
ORGANIZER;CN="%C3%89v%C3%A9nement Tracadie":MAILTO:info@tracadienb.ca
END:VEVENT
BEGIN:VEVENT
DTSTART;TZID=America/Moncton:20260914T140000
DTEND;TZID=America/Moncton:20260914T152500
DTSTAMP:20260425T144202
CREATED:20260109T182707Z
LAST-MODIFIED:20260109T182707Z
UID:10006048-1789394400-1789399500@calendrier.tracadienb.ca
SUMMARY:Bain libre - Piscine
DESCRIPTION:Le bain libre vous permet de profiter de la piscine à votre façon\, selon votre rythme et vos envies. \nPour plus d’information\, communiquez au 506-394-4016 \nConsulter la programmation régulière complète ici.
URL:https://calendrier.tracadienb.ca/evenement/bain-libre-piscine/2026-09-14/
LOCATION:Piscine du Complexe Rév. S.A. Dionne\, 4216 rue Hall\, Tracadie\, Nouveau-Brunswick\, E1X 1B9\, Canada
CATEGORIES:Piscine
ATTACH;FMTTYPE=image/png:https://calendrier.tracadienb.ca/wp-content/uploads/Cours-de-natation-scaled.png
ORGANIZER;CN="%C3%89v%C3%A9nement Tracadie":MAILTO:info@tracadienb.ca
END:VEVENT
BEGIN:VEVENT
DTSTART;TZID=America/Moncton:20260921T140000
DTEND;TZID=America/Moncton:20260921T152500
DTSTAMP:20260425T144202
CREATED:20260109T182707Z
LAST-MODIFIED:20260109T182707Z
UID:10006049-1789999200-1790004300@calendrier.tracadienb.ca
SUMMARY:Bain libre - Piscine
DESCRIPTION:Le bain libre vous permet de profiter de la piscine à votre façon\, selon votre rythme et vos envies. \nPour plus d’information\, communiquez au 506-394-4016 \nConsulter la programmation régulière complète ici.
URL:https://calendrier.tracadienb.ca/evenement/bain-libre-piscine/2026-09-21/
LOCATION:Piscine du Complexe Rév. S.A. Dionne\, 4216 rue Hall\, Tracadie\, Nouveau-Brunswick\, E1X 1B9\, Canada
CATEGORIES:Piscine
ATTACH;FMTTYPE=image/png:https://calendrier.tracadienb.ca/wp-content/uploads/Cours-de-natation-scaled.png
ORGANIZER;CN="%C3%89v%C3%A9nement Tracadie":MAILTO:info@tracadienb.ca
END:VEVENT
BEGIN:VEVENT
DTSTART;TZID=America/Moncton:20260928T140000
DTEND;TZID=America/Moncton:20260928T152500
DTSTAMP:20260425T144202
CREATED:20260109T182707Z
LAST-MODIFIED:20260109T182707Z
UID:10006050-1790604000-1790609100@calendrier.tracadienb.ca
SUMMARY:Bain libre - Piscine
DESCRIPTION:Le bain libre vous permet de profiter de la piscine à votre façon\, selon votre rythme et vos envies. \nPour plus d’information\, communiquez au 506-394-4016 \nConsulter la programmation régulière complète ici.
URL:https://calendrier.tracadienb.ca/evenement/bain-libre-piscine/2026-09-28/
LOCATION:Piscine du Complexe Rév. S.A. Dionne\, 4216 rue Hall\, Tracadie\, Nouveau-Brunswick\, E1X 1B9\, Canada
CATEGORIES:Piscine
ATTACH;FMTTYPE=image/png:https://calendrier.tracadienb.ca/wp-content/uploads/Cours-de-natation-scaled.png
ORGANIZER;CN="%C3%89v%C3%A9nement Tracadie":MAILTO:info@tracadienb.ca
END:VEVENT
BEGIN:VEVENT
DTSTART;TZID=America/Moncton:20261005T140000
DTEND;TZID=America/Moncton:20261005T152500
DTSTAMP:20260425T144202
CREATED:20260109T182707Z
LAST-MODIFIED:20260109T182707Z
UID:10006051-1791208800-1791213900@calendrier.tracadienb.ca
SUMMARY:Bain libre - Piscine
DESCRIPTION:Le bain libre vous permet de profiter de la piscine à votre façon\, selon votre rythme et vos envies. \nPour plus d’information\, communiquez au 506-394-4016 \nConsulter la programmation régulière complète ici.
URL:https://calendrier.tracadienb.ca/evenement/bain-libre-piscine/2026-10-05/
LOCATION:Piscine du Complexe Rév. S.A. Dionne\, 4216 rue Hall\, Tracadie\, Nouveau-Brunswick\, E1X 1B9\, Canada
CATEGORIES:Piscine
ATTACH;FMTTYPE=image/png:https://calendrier.tracadienb.ca/wp-content/uploads/Cours-de-natation-scaled.png
ORGANIZER;CN="%C3%89v%C3%A9nement Tracadie":MAILTO:info@tracadienb.ca
END:VEVENT
BEGIN:VEVENT
DTSTART;TZID=America/Moncton:20261012T140000
DTEND;TZID=America/Moncton:20261012T152500
DTSTAMP:20260425T144202
CREATED:20260109T182707Z
LAST-MODIFIED:20260109T182707Z
UID:10006052-1791813600-1791818700@calendrier.tracadienb.ca
SUMMARY:Bain libre - Piscine
DESCRIPTION:Le bain libre vous permet de profiter de la piscine à votre façon\, selon votre rythme et vos envies. \nPour plus d’information\, communiquez au 506-394-4016 \nConsulter la programmation régulière complète ici.
URL:https://calendrier.tracadienb.ca/evenement/bain-libre-piscine/2026-10-12/
LOCATION:Piscine du Complexe Rév. S.A. Dionne\, 4216 rue Hall\, Tracadie\, Nouveau-Brunswick\, E1X 1B9\, Canada
CATEGORIES:Piscine
ATTACH;FMTTYPE=image/png:https://calendrier.tracadienb.ca/wp-content/uploads/Cours-de-natation-scaled.png
ORGANIZER;CN="%C3%89v%C3%A9nement Tracadie":MAILTO:info@tracadienb.ca
END:VEVENT
BEGIN:VEVENT
DTSTART;TZID=America/Moncton:20261019T140000
DTEND;TZID=America/Moncton:20261019T152500
DTSTAMP:20260425T144202
CREATED:20260109T182707Z
LAST-MODIFIED:20260109T182707Z
UID:10006053-1792418400-1792423500@calendrier.tracadienb.ca
SUMMARY:Bain libre - Piscine
DESCRIPTION:Le bain libre vous permet de profiter de la piscine à votre façon\, selon votre rythme et vos envies. \nPour plus d’information\, communiquez au 506-394-4016 \nConsulter la programmation régulière complète ici.
URL:https://calendrier.tracadienb.ca/evenement/bain-libre-piscine/2026-10-19/
LOCATION:Piscine du Complexe Rév. S.A. Dionne\, 4216 rue Hall\, Tracadie\, Nouveau-Brunswick\, E1X 1B9\, Canada
CATEGORIES:Piscine
ATTACH;FMTTYPE=image/png:https://calendrier.tracadienb.ca/wp-content/uploads/Cours-de-natation-scaled.png
ORGANIZER;CN="%C3%89v%C3%A9nement Tracadie":MAILTO:info@tracadienb.ca
END:VEVENT
BEGIN:VEVENT
DTSTART;TZID=America/Moncton:20261026T140000
DTEND;TZID=America/Moncton:20261026T152500
DTSTAMP:20260425T144202
CREATED:20260109T182707Z
LAST-MODIFIED:20260109T182707Z
UID:10006054-1793023200-1793028300@calendrier.tracadienb.ca
SUMMARY:Bain libre - Piscine
DESCRIPTION:Le bain libre vous permet de profiter de la piscine à votre façon\, selon votre rythme et vos envies. \nPour plus d’information\, communiquez au 506-394-4016 \nConsulter la programmation régulière complète ici.
URL:https://calendrier.tracadienb.ca/evenement/bain-libre-piscine/2026-10-26/
LOCATION:Piscine du Complexe Rév. S.A. Dionne\, 4216 rue Hall\, Tracadie\, Nouveau-Brunswick\, E1X 1B9\, Canada
CATEGORIES:Piscine
ATTACH;FMTTYPE=image/png:https://calendrier.tracadienb.ca/wp-content/uploads/Cours-de-natation-scaled.png
ORGANIZER;CN="%C3%89v%C3%A9nement Tracadie":MAILTO:info@tracadienb.ca
END:VEVENT
BEGIN:VEVENT
DTSTART;TZID=America/Moncton:20261102T140000
DTEND;TZID=America/Moncton:20261102T152500
DTSTAMP:20260425T144202
CREATED:20260109T182707Z
LAST-MODIFIED:20260109T182707Z
UID:10006055-1793628000-1793633100@calendrier.tracadienb.ca
SUMMARY:Bain libre - Piscine
DESCRIPTION:Le bain libre vous permet de profiter de la piscine à votre façon\, selon votre rythme et vos envies. \nPour plus d’information\, communiquez au 506-394-4016 \nConsulter la programmation régulière complète ici.
URL:https://calendrier.tracadienb.ca/evenement/bain-libre-piscine/2026-11-02/
LOCATION:Piscine du Complexe Rév. S.A. Dionne\, 4216 rue Hall\, Tracadie\, Nouveau-Brunswick\, E1X 1B9\, Canada
CATEGORIES:Piscine
ATTACH;FMTTYPE=image/png:https://calendrier.tracadienb.ca/wp-content/uploads/Cours-de-natation-scaled.png
ORGANIZER;CN="%C3%89v%C3%A9nement Tracadie":MAILTO:info@tracadienb.ca
END:VEVENT
BEGIN:VEVENT
DTSTART;TZID=America/Moncton:20261109T140000
DTEND;TZID=America/Moncton:20261109T152500
DTSTAMP:20260425T144202
CREATED:20260109T182707Z
LAST-MODIFIED:20260109T182707Z
UID:10006056-1794232800-1794237900@calendrier.tracadienb.ca
SUMMARY:Bain libre - Piscine
DESCRIPTION:Le bain libre vous permet de profiter de la piscine à votre façon\, selon votre rythme et vos envies. \nPour plus d’information\, communiquez au 506-394-4016 \nConsulter la programmation régulière complète ici.
URL:https://calendrier.tracadienb.ca/evenement/bain-libre-piscine/2026-11-09/
LOCATION:Piscine du Complexe Rév. S.A. Dionne\, 4216 rue Hall\, Tracadie\, Nouveau-Brunswick\, E1X 1B9\, Canada
CATEGORIES:Piscine
ATTACH;FMTTYPE=image/png:https://calendrier.tracadienb.ca/wp-content/uploads/Cours-de-natation-scaled.png
ORGANIZER;CN="%C3%89v%C3%A9nement Tracadie":MAILTO:info@tracadienb.ca
END:VEVENT
BEGIN:VEVENT
DTSTART;TZID=America/Moncton:20261116T140000
DTEND;TZID=America/Moncton:20261116T152500
DTSTAMP:20260425T144202
CREATED:20260109T182707Z
LAST-MODIFIED:20260109T182707Z
UID:10006057-1794837600-1794842700@calendrier.tracadienb.ca
SUMMARY:Bain libre - Piscine
DESCRIPTION:Le bain libre vous permet de profiter de la piscine à votre façon\, selon votre rythme et vos envies. \nPour plus d’information\, communiquez au 506-394-4016 \nConsulter la programmation régulière complète ici.
URL:https://calendrier.tracadienb.ca/evenement/bain-libre-piscine/2026-11-16/
LOCATION:Piscine du Complexe Rév. S.A. Dionne\, 4216 rue Hall\, Tracadie\, Nouveau-Brunswick\, E1X 1B9\, Canada
CATEGORIES:Piscine
ATTACH;FMTTYPE=image/png:https://calendrier.tracadienb.ca/wp-content/uploads/Cours-de-natation-scaled.png
ORGANIZER;CN="%C3%89v%C3%A9nement Tracadie":MAILTO:info@tracadienb.ca
END:VEVENT
END:VCALENDAR