BEGIN:VCALENDAR
VERSION:2.0
PRODID:-//Calendrier - Municipalité Régionale de Tracadie - ECPv6.15.20//NONSGML v1.0//EN
CALSCALE:GREGORIAN
METHOD:PUBLISH
X-WR-CALNAME:Calendrier - Municipalité Régionale de Tracadie
X-ORIGINAL-URL:https://calendrier.tracadienb.ca
X-WR-CALDESC:Évènements pour Calendrier - Municipalité Régionale de Tracadie
REFRESH-INTERVAL;VALUE=DURATION:PT1H
X-Robots-Tag:noindex
X-PUBLISHED-TTL:PT1H
BEGIN:VTIMEZONE
TZID:America/Moncton
BEGIN:DAYLIGHT
TZOFFSETFROM:-0400
TZOFFSETTO:-0300
TZNAME:ADT
DTSTART:20240310T060000
END:DAYLIGHT
BEGIN:STANDARD
TZOFFSETFROM:-0300
TZOFFSETTO:-0400
TZNAME:AST
DTSTART:20241103T050000
END:STANDARD
BEGIN:DAYLIGHT
TZOFFSETFROM:-0400
TZOFFSETTO:-0300
TZNAME:ADT
DTSTART:20250309T060000
END:DAYLIGHT
BEGIN:STANDARD
TZOFFSETFROM:-0300
TZOFFSETTO:-0400
TZNAME:AST
DTSTART:20251102T050000
END:STANDARD
BEGIN:DAYLIGHT
TZOFFSETFROM:-0400
TZOFFSETTO:-0300
TZNAME:ADT
DTSTART:20260308T060000
END:DAYLIGHT
BEGIN:STANDARD
TZOFFSETFROM:-0300
TZOFFSETTO:-0400
TZNAME:AST
DTSTART:20261101T050000
END:STANDARD
END:VTIMEZONE
BEGIN:VEVENT
DTSTART;TZID=America/Moncton:20250913T080000
DTEND;TZID=America/Moncton:20250913T130000
DTSTAMP:20260424T212849
CREATED:20250904T161136Z
LAST-MODIFIED:20250904T161238Z
UID:10002323-1757750400-1757768400@calendrier.tracadienb.ca
SUMMARY:Marché Champêtre de Tracadie
DESCRIPTION:Un lieu de rencontre\, d’échange et de saveurs locales. \nLe Marché de Tracadie est un espace convivial qui valorise les produits du terroir et met en lumière la créativité des gens de la région. \nRetrouvez-nous tous les samedis de 8 h à 13 h pendant la saison estivale.Producteurs\, artisans et créateurs vous y attendent avec le meilleur de chez nous.
URL:https://calendrier.tracadienb.ca/evenement/marche-champetre-de-tracadie-2/2025-09-13/
LOCATION:Marché champêtre de Tracadie\, 3416 rue Principale\, Tracadie\, Nouveau-Brunswick\, E1X 1G5\, Canada
CATEGORIES:Activités
ATTACH;FMTTYPE=image/png:https://calendrier.tracadienb.ca/wp-content/uploads/1er-Marche-de-la-saison-7.png
ORGANIZER;CN="%C3%89v%C3%A9nement Tracadie":MAILTO:info@tracadienb.ca
END:VEVENT
BEGIN:VEVENT
DTSTART;TZID=America/Moncton:20250907T180000
DTEND;TZID=America/Moncton:20250907T210000
DTSTAMP:20260424T212849
CREATED:20250819T185857Z
LAST-MODIFIED:20250819T185857Z
UID:10002231-1757268000-1757278800@calendrier.tracadienb.ca
SUMMARY:Souper Champêtre 2025
DESCRIPTION:Souper Champêtre 2025 sous la thématique Cuisine française \n\n\nLa vente de billets se fera directement au Marché Centre-Ville ce samedi 16 août dès 8 h.\n Premier arrivé\, premier servi!\n\n\n\nCette année\, la grande tablée de 100 convives aura lieu le 7 septembre.\n\n\nPrix 65$/billet\n\n\nL’animation musicale sera fait par Nancy Breau
URL:https://calendrier.tracadienb.ca/evenement/souper-champetre-2025/
LOCATION:Marché champêtre de Tracadie\, 3416 rue Principale\, Tracadie\, Nouveau-Brunswick\, E1X 1G5\, Canada
CATEGORIES:Activités
ATTACH;FMTTYPE=image/jpeg:https://calendrier.tracadienb.ca/wp-content/uploads/Souper-Champetre-2025.jpg
ORGANIZER;CN="%C3%89v%C3%A9nement Tracadie":MAILTO:info@tracadienb.ca
END:VEVENT
BEGIN:VEVENT
DTSTART;TZID=America/Moncton:20250906T080000
DTEND;TZID=America/Moncton:20250913T130000
DTSTAMP:20260424T212849
CREATED:20250904T161136Z
LAST-MODIFIED:20250904T161238Z
UID:10000030-1757145600-1757768400@calendrier.tracadienb.ca
SUMMARY:Marché Champêtre de Tracadie
DESCRIPTION:Un lieu de rencontre\, d’échange et de saveurs locales. \nLe Marché de Tracadie est un espace convivial qui valorise les produits du terroir et met en lumière la créativité des gens de la région. \nRetrouvez-nous tous les samedis de 8 h à 13 h pendant la saison estivale.Producteurs\, artisans et créateurs vous y attendent avec le meilleur de chez nous.
URL:https://calendrier.tracadienb.ca/evenement/marche-champetre-de-tracadie-2/2025-09-06/
LOCATION:Marché champêtre de Tracadie\, 3416 rue Principale\, Tracadie\, Nouveau-Brunswick\, E1X 1G5\, Canada
CATEGORIES:Activités
ATTACH;FMTTYPE=image/png:https://calendrier.tracadienb.ca/wp-content/uploads/1er-Marche-de-la-saison-7.png
ORGANIZER;CN="%C3%89v%C3%A9nement Tracadie":MAILTO:info@tracadienb.ca
END:VEVENT
BEGIN:VEVENT
DTSTART;TZID=America/Moncton:20250830T080000
DTEND;TZID=America/Moncton:20250830T130000
DTSTAMP:20260424T212849
CREATED:20250703T185717Z
LAST-MODIFIED:20250703T185717Z
UID:10000029-1756540800-1756558800@calendrier.tracadienb.ca
SUMMARY:Marché Champêtre de Tracadie
DESCRIPTION:Un lieu de rencontre\, d’échange et de saveurs locales. \nLe Marché de Tracadie est un espace convivial qui valorise les produits du terroir et met en lumière la créativité des gens de la région. \nRetrouvez-nous tous les samedis de 8 h à 13 h pendant la saison estivale.Producteurs\, artisans et créateurs vous y attendent avec le meilleur de chez nous.
URL:https://calendrier.tracadienb.ca/evenement/marche-champetre-de-tracadie/2025-08-30/
LOCATION:Marché champêtre de Tracadie\, 3416 rue Principale\, Tracadie\, Nouveau-Brunswick\, E1X 1G5\, Canada
CATEGORIES:Activités
ATTACH;FMTTYPE=image/png:https://calendrier.tracadienb.ca/wp-content/uploads/1er-Marche-de-la-saison-7.png
ORGANIZER;CN="%C3%89v%C3%A9nement Tracadie":MAILTO:info@tracadienb.ca
END:VEVENT
BEGIN:VEVENT
DTSTART;TZID=America/Moncton:20250827T190000
DTEND;TZID=America/Moncton:20250827T210000
DTSTAMP:20260424T212849
CREATED:20250819T185218Z
LAST-MODIFIED:20250819T185218Z
UID:10002229-1756321200-1756328400@calendrier.tracadienb.ca
SUMMARY:Mercredi Acadien
DESCRIPTION:🎉Le dernier 𝐌𝐞𝐫𝐜𝐫𝐞𝐝𝐢 𝐀𝐜𝐚𝐝𝐢𝐞𝐧 2025 𝐚𝐮 𝐌𝐚𝐫𝐜𝐡é 𝐂𝐞𝐧𝐭𝐫𝐞-𝐕𝐢𝐥𝐥𝐞 ! 🔵⚪️🔴\n\n\nDès 19h\, venez chanter\, danser et célébrer avec nous !\n\n\n \n\n\n🎶 Sur scène : Steeve Hickey et Dany Cormier- des artistes d’ici qui promettent une soirée mémorable !\n\n\n \n\n\n🥳 Ambiance festive\, bonne musique\, et plaisir garanti !\n\n\n🍔 Cantine sur place ($)\n\n\n \n\n\nApportez votre chaise… et votre bonne humeur !
URL:https://calendrier.tracadienb.ca/evenement/mercredi-acadien-5/
LOCATION:Marché champêtre de Tracadie\, 3416 rue Principale\, Tracadie\, Nouveau-Brunswick\, E1X 1G5\, Canada
CATEGORIES:Activités,Spectacles
ATTACH;FMTTYPE=image/png:https://calendrier.tracadienb.ca/wp-content/uploads/Mercredi-acadien-27-aout-2025.png
ORGANIZER;CN="%C3%89v%C3%A9nement Tracadie":MAILTO:info@tracadienb.ca
END:VEVENT
BEGIN:VEVENT
DTSTART;TZID=America/Moncton:20250823T080000
DTEND;TZID=America/Moncton:20250823T130000
DTSTAMP:20260424T212849
CREATED:20250703T185717Z
LAST-MODIFIED:20250703T185717Z
UID:10000028-1755936000-1755954000@calendrier.tracadienb.ca
SUMMARY:Marché Champêtre de Tracadie
DESCRIPTION:Un lieu de rencontre\, d’échange et de saveurs locales. \nLe Marché de Tracadie est un espace convivial qui valorise les produits du terroir et met en lumière la créativité des gens de la région. \nRetrouvez-nous tous les samedis de 8 h à 13 h pendant la saison estivale.Producteurs\, artisans et créateurs vous y attendent avec le meilleur de chez nous.
URL:https://calendrier.tracadienb.ca/evenement/marche-champetre-de-tracadie/2025-08-23/
LOCATION:Marché champêtre de Tracadie\, 3416 rue Principale\, Tracadie\, Nouveau-Brunswick\, E1X 1G5\, Canada
CATEGORIES:Activités
ATTACH;FMTTYPE=image/png:https://calendrier.tracadienb.ca/wp-content/uploads/1er-Marche-de-la-saison-7.png
ORGANIZER;CN="%C3%89v%C3%A9nement Tracadie":MAILTO:info@tracadienb.ca
END:VEVENT
BEGIN:VEVENT
DTSTART;TZID=America/Moncton:20250816T080000
DTEND;TZID=America/Moncton:20250816T130000
DTSTAMP:20260424T212849
CREATED:20250703T185717Z
LAST-MODIFIED:20250703T185717Z
UID:10000027-1755331200-1755349200@calendrier.tracadienb.ca
SUMMARY:Marché Champêtre de Tracadie
DESCRIPTION:Un lieu de rencontre\, d’échange et de saveurs locales. \nLe Marché de Tracadie est un espace convivial qui valorise les produits du terroir et met en lumière la créativité des gens de la région. \nRetrouvez-nous tous les samedis de 8 h à 13 h pendant la saison estivale.Producteurs\, artisans et créateurs vous y attendent avec le meilleur de chez nous.
URL:https://calendrier.tracadienb.ca/evenement/marche-champetre-de-tracadie/2025-08-16/
LOCATION:Marché champêtre de Tracadie\, 3416 rue Principale\, Tracadie\, Nouveau-Brunswick\, E1X 1G5\, Canada
CATEGORIES:Activités
ATTACH;FMTTYPE=image/png:https://calendrier.tracadienb.ca/wp-content/uploads/1er-Marche-de-la-saison-7.png
ORGANIZER;CN="%C3%89v%C3%A9nement Tracadie":MAILTO:info@tracadienb.ca
END:VEVENT
BEGIN:VEVENT
DTSTART;TZID=America/Moncton:20250813T190000
DTEND;TZID=America/Moncton:20250813T220000
DTSTAMP:20260424T212849
CREATED:20250722T180637Z
LAST-MODIFIED:20250722T180637Z
UID:10001953-1755111600-1755122400@calendrier.tracadienb.ca
SUMMARY:Mercredi Acadien
DESCRIPTION:🎉 𝐂𝐞 𝐬𝐨𝐢𝐫\, 𝐜’𝐞𝐬𝐭 𝐌𝐞𝐫𝐜𝐫𝐞𝐝𝐢 𝐀𝐜𝐚𝐝𝐢𝐞𝐧 𝐚𝐮 𝐌𝐚𝐫𝐜𝐡é 𝐂𝐞𝐧𝐭𝐫𝐞-𝐕𝐢𝐥𝐥𝐞 ! 🔵⚪️🔴\n\n\nDès 19h\, venez chanter\, danser et célébrer avec nous !\n\n\n \n\n\n🎶 Sur scène : Amel Murphy et Serge Brideau – des artistes d’ici qui promettent une soirée mémorable !\n\n\n \n\n\n🥳 Ambiance festive\, bonne musique\, et plaisir garanti !\n\n\n🍔 Cantine sur place ($)\n\n\n \n\n\nApportez votre chaise… et votre bonne humeur !
URL:https://calendrier.tracadienb.ca/evenement/mercredi-acadien-3/
LOCATION:Marché champêtre de Tracadie\, 3416 rue Principale\, Tracadie\, Nouveau-Brunswick\, E1X 1G5\, Canada
CATEGORIES:Activités,Spectacles
ATTACH;FMTTYPE=image/png:https://calendrier.tracadienb.ca/wp-content/uploads/Mercredi-acadien-13-aout-2025.png
ORGANIZER;CN="%C3%89v%C3%A9nement Tracadie":MAILTO:info@tracadienb.ca
END:VEVENT
BEGIN:VEVENT
DTSTART;TZID=America/Moncton:20250809T080000
DTEND;TZID=America/Moncton:20250809T130000
DTSTAMP:20260424T212849
CREATED:20250703T185717Z
LAST-MODIFIED:20250703T185717Z
UID:10000026-1754726400-1754744400@calendrier.tracadienb.ca
SUMMARY:Marché Champêtre de Tracadie
DESCRIPTION:Un lieu de rencontre\, d’échange et de saveurs locales. \nLe Marché de Tracadie est un espace convivial qui valorise les produits du terroir et met en lumière la créativité des gens de la région. \nRetrouvez-nous tous les samedis de 8 h à 13 h pendant la saison estivale.Producteurs\, artisans et créateurs vous y attendent avec le meilleur de chez nous.
URL:https://calendrier.tracadienb.ca/evenement/marche-champetre-de-tracadie/2025-08-09/
LOCATION:Marché champêtre de Tracadie\, 3416 rue Principale\, Tracadie\, Nouveau-Brunswick\, E1X 1G5\, Canada
CATEGORIES:Activités
ATTACH;FMTTYPE=image/png:https://calendrier.tracadienb.ca/wp-content/uploads/1er-Marche-de-la-saison-7.png
ORGANIZER;CN="%C3%89v%C3%A9nement Tracadie":MAILTO:info@tracadienb.ca
END:VEVENT
BEGIN:VEVENT
DTSTART;TZID=America/Moncton:20250806T190000
DTEND;TZID=America/Moncton:20250806T220000
DTSTAMP:20260424T212849
CREATED:20250722T180321Z
LAST-MODIFIED:20250722T180321Z
UID:10001952-1754506800-1754517600@calendrier.tracadienb.ca
SUMMARY:Mercredi Acadien
DESCRIPTION:🎉 𝐂𝐞 𝐬𝐨𝐢𝐫\, 𝐜’𝐞𝐬𝐭 𝐌𝐞𝐫𝐜𝐫𝐞𝐝𝐢 𝐀𝐜𝐚𝐝𝐢𝐞𝐧 𝐚𝐮 𝐌𝐚𝐫𝐜𝐡é 𝐂𝐞𝐧𝐭𝐫𝐞-𝐕𝐢𝐥𝐥𝐞 ! 🔵⚪️🔴\n\n\nDès 19h\, venez chanter\, danser et célébrer avec nous !\n\n\n \n\n\n🎶 Sur scène : Ginette Rousselle ainsi que Wilson et Joanne– des artistes d’ici qui promettent une soirée mémorable !\n\n\n \n\n\n🥳 Ambiance festive\, bonne musique\, et plaisir garanti !\n\n\n🍔 Cantine sur place ($)\n\n\n \n\n\nApportez votre chaise… et votre bonne humeur !
URL:https://calendrier.tracadienb.ca/evenement/mercredi-acadien-2/
LOCATION:Marché champêtre de Tracadie\, 3416 rue Principale\, Tracadie\, Nouveau-Brunswick\, E1X 1G5\, Canada
CATEGORIES:Activités,Spectacles
ATTACH;FMTTYPE=image/png:https://calendrier.tracadienb.ca/wp-content/uploads/Mercredi-acadien-6-aout-2025.png
ORGANIZER;CN="%C3%89v%C3%A9nement Tracadie":MAILTO:info@tracadienb.ca
END:VEVENT
BEGIN:VEVENT
DTSTART;TZID=America/Moncton:20250802T080000
DTEND;TZID=America/Moncton:20250802T130000
DTSTAMP:20260424T212849
CREATED:20250703T185717Z
LAST-MODIFIED:20250703T185717Z
UID:10000025-1754121600-1754139600@calendrier.tracadienb.ca
SUMMARY:Marché Champêtre de Tracadie
DESCRIPTION:Un lieu de rencontre\, d’échange et de saveurs locales. \nLe Marché de Tracadie est un espace convivial qui valorise les produits du terroir et met en lumière la créativité des gens de la région. \nRetrouvez-nous tous les samedis de 8 h à 13 h pendant la saison estivale.Producteurs\, artisans et créateurs vous y attendent avec le meilleur de chez nous.
URL:https://calendrier.tracadienb.ca/evenement/marche-champetre-de-tracadie/2025-08-02/
LOCATION:Marché champêtre de Tracadie\, 3416 rue Principale\, Tracadie\, Nouveau-Brunswick\, E1X 1G5\, Canada
CATEGORIES:Activités
ATTACH;FMTTYPE=image/png:https://calendrier.tracadienb.ca/wp-content/uploads/1er-Marche-de-la-saison-7.png
ORGANIZER;CN="%C3%89v%C3%A9nement Tracadie":MAILTO:info@tracadienb.ca
END:VEVENT
BEGIN:VEVENT
DTSTART;TZID=America/Moncton:20250801T213000
DTEND;TZID=America/Moncton:20250801T213000
DTSTAMP:20260424T212849
CREATED:20250730T161424Z
LAST-MODIFIED:20250730T161500Z
UID:10001956-1754083800-1754083800@calendrier.tracadienb.ca
SUMMARY:Ciné lune présente Moana 2
DESCRIPTION: Ciné-Lune présente : Moana 2 \n\nVenez vivre la magie du cinéma sous les étoiles avec la projection en plein air du film Moana 2 !\nUne soirée parfaite pour les petits (et les grands enfants dans l’âme) \nApportez votre couverture\, installez-vous confortablement et profitez d’un moment de pur bonheur en famille !\n Activité gratuite et amusante – on vous attend nombreux !
URL:https://calendrier.tracadienb.ca/evenement/cine-lune-presente-moana-2/
LOCATION:Marché champêtre de Tracadie\, 3416 rue Principale\, Tracadie\, Nouveau-Brunswick\, E1X 1G5\, Canada
CATEGORIES:Activités
ATTACH;FMTTYPE=image/webp:https://calendrier.tracadienb.ca/wp-content/uploads/Moana-2.webp
ORGANIZER;CN="%C3%89v%C3%A9nement Tracadie":MAILTO:info@tracadienb.ca
END:VEVENT
BEGIN:VEVENT
DTSTART;TZID=America/Moncton:20250731T140000
DTEND;TZID=America/Moncton:20250731T160000
DTSTAMP:20260424T212849
CREATED:20250722T171141Z
LAST-MODIFIED:20250722T171141Z
UID:10001948-1753970400-1753977600@calendrier.tracadienb.ca
SUMMARY:Atelier de macramé (50ans+)
DESCRIPTION:🧵 Atelier de macramé – Spécial 50 ans et + \n Envie d’une activité manuelle relaxante et créative ?Joignez-vous à nous pour un atelier de macramé spécialement conçu pour les 50 ans et plus ! \n🤍 Apprenez les bases de cet art du tressage et repartez avec une belle création faite de vos mains.Un moment parfait pour créer\, jaser et relaxer en bonne compagnie ! \nMatériel fourni – places limitées et c’est gratuit! Inscrivez-vous vite  au 506-394-4133.
URL:https://calendrier.tracadienb.ca/evenement/atelier-de-macrame-50ans/
LOCATION:Marché champêtre de Tracadie\, 3416 rue Principale\, Tracadie\, Nouveau-Brunswick\, E1X 1G5\, Canada
CATEGORIES:Activités
ATTACH;FMTTYPE=image/png:https://calendrier.tracadienb.ca/wp-content/uploads/1er-Marche-de-la-saison-22.png
ORGANIZER;CN="%C3%89v%C3%A9nement Tracadie":MAILTO:info@tracadienb.ca
END:VEVENT
BEGIN:VEVENT
DTSTART;TZID=America/Moncton:20250731T100000
DTEND;TZID=America/Moncton:20250731T120000
DTSTAMP:20260424T212849
CREATED:20250722T171436Z
LAST-MODIFIED:20250722T171436Z
UID:10001949-1753956000-1753963200@calendrier.tracadienb.ca
SUMMARY:Atelier de macramé (enfants)
DESCRIPTION:🧶 Atelier de macramé pour enfants 🎨👧🧑 \nLes petits artistes sont invités à découvrir l’art du macramé dans une ambiance ludique et colorée ! \nUne activité parfaite pour développer la créativité et la motricité fine\, tout en s’amusant !Chaque enfant repartira avec sa propre création faite main\, à garder en souvenir ou à offrir fièrement ! \nTout le matériel est fourni et c’est gratuit! Inscrivez-vous à l’avance au 506-394-4133
URL:https://calendrier.tracadienb.ca/evenement/atelier-de-macrame-enfants/
LOCATION:Marché champêtre de Tracadie\, 3416 rue Principale\, Tracadie\, Nouveau-Brunswick\, E1X 1G5\, Canada
CATEGORIES:Activités
ATTACH;FMTTYPE=image/png:https://calendrier.tracadienb.ca/wp-content/uploads/1er-Marche-de-la-saison-23.png
ORGANIZER;CN="%C3%89v%C3%A9nement Tracadie":MAILTO:info@tracadienb.ca
END:VEVENT
BEGIN:VEVENT
DTSTART;TZID=America/Moncton:20250731T100000
DTEND;TZID=America/Moncton:20250731T120000
DTSTAMP:20260424T212849
CREATED:20250722T170424Z
LAST-MODIFIED:20250722T170424Z
UID:10001947-1753956000-1753963200@calendrier.tracadienb.ca
SUMMARY:Atelier de peinture (8 à 12 ans)
DESCRIPTION:🎨 Atelier de peinture pour enfants 👧🧑‍🎨 \nPlace à la créativité et aux couleurs !Les enfants sont invités à participer à un atelier de peinture amusant animé par nos passionnées de l’art. \n🖌️ Ils pourront laisser libre cours à leur imagination et repartir fièrement avec leur œuvre d’art ! \n✨ Une activité parfaite pour s’amuser\, apprendre et créer de beaux souvenirs ! \nInscription à l’avance au 506-394-4133
URL:https://calendrier.tracadienb.ca/evenement/atelier-de-peinture-8-a-12-ans/
LOCATION:Marché champêtre de Tracadie\, 3416 rue Principale\, Tracadie\, Nouveau-Brunswick\, E1X 1G5\, Canada
CATEGORIES:Activités
ATTACH;FMTTYPE=image/png:https://calendrier.tracadienb.ca/wp-content/uploads/1er-Marche-de-la-saison-21.png
ORGANIZER;CN="%C3%89v%C3%A9nement Tracadie":MAILTO:info@tracadienb.ca
END:VEVENT
BEGIN:VEVENT
DTSTART;TZID=America/Moncton:20250730T190000
DTEND;TZID=America/Moncton:20250730T220000
DTSTAMP:20260424T212849
CREATED:20250722T173619Z
LAST-MODIFIED:20250722T173625Z
UID:10001950-1753902000-1753912800@calendrier.tracadienb.ca
SUMMARY:Mercredi Acadien de l'Aquafête
DESCRIPTION:🎉 Le plus grand Mercredi Acadien de l’été se passe à l’Aquafête ! 🎶Une soirée musicale GRATUITE à ne pas manquer ! \nEn première partie : Brian Kelly et ses musiciens vous feront vibrer dès les premières notes.En deuxième partie : Kev\, le chanteur du groupe Réveil\, enflamme la scène avec ses musiciens ! \nCantine sur place pour combler vos fringales et garder toute votre énergie pour danser ! \n📍 Soyez des nôtres pour cette soirée mémorable\, dans le cadre du Festival l’Aquafête !
URL:https://calendrier.tracadienb.ca/evenement/mercredi-acadien-de-laquafete/
LOCATION:Marché champêtre de Tracadie\, 3416 rue Principale\, Tracadie\, Nouveau-Brunswick\, E1X 1G5\, Canada
CATEGORIES:Activités,Spectacles
ATTACH;FMTTYPE=image/png:https://calendrier.tracadienb.ca/wp-content/uploads/FB-EVENT-La-Ruee-3.png
ORGANIZER;CN="%C3%89v%C3%A9nement Tracadie":MAILTO:info@tracadienb.ca
END:VEVENT
BEGIN:VEVENT
DTSTART;TZID=America/Moncton:20250729T190000
DTEND;TZID=America/Moncton:20250729T210000
DTSTAMP:20260424T212849
CREATED:20250722T164707Z
LAST-MODIFIED:20250722T164707Z
UID:10001946-1753815600-1753822800@calendrier.tracadienb.ca
SUMMARY:Soirée musique - Groupe Évolution
DESCRIPTION:🎶 Soirée musicale avec le groupe Évolution 🌟Le Marché Centre-Ville s’anime sous les étoiles avec une soirée pleine de rythmes et d’énergie ! \nVenez danser\, chanter et profiter de la musique entraînante du groupe Évolution dans une ambiance conviviale et festive ! \nC’est gratuit !Cantine sur place pour combler vos petites fringales. \nOn vous attend pour une soirée inoubliable !
URL:https://calendrier.tracadienb.ca/evenement/soiree-musique-groupe-evolution/
LOCATION:Marché champêtre de Tracadie\, 3416 rue Principale\, Tracadie\, Nouveau-Brunswick\, E1X 1G5\, Canada
CATEGORIES:Activités
ORGANIZER;CN="%C3%89v%C3%A9nement Tracadie":MAILTO:info@tracadienb.ca
END:VEVENT
BEGIN:VEVENT
DTSTART;TZID=America/Moncton:20250729T140000
DTEND;TZID=America/Moncton:20250729T160000
DTSTAMP:20260424T212849
CREATED:20250722T162906Z
LAST-MODIFIED:20250722T162906Z
UID:10001945-1753797600-1753804800@calendrier.tracadienb.ca
SUMMARY:Atelier Création de jeu
DESCRIPTION:🎲 Atelier Création de jeu–pour les petits créateurs! 🎨Les enfants sont invités à mettre la main à la pâte et à inventer leur propre jeu avec l’aide de nos super animatrices ! ✂️🖍️ \nUne activité créative\, amusante et éducative où chaque enfant repartira avec le jeu qu’il aura lui-même confectionné ! 🌟Un beau souvenir à ramener à la maison !
URL:https://calendrier.tracadienb.ca/evenement/atelier-creation-de-jeu/
LOCATION:Marché champêtre de Tracadie\, 3416 rue Principale\, Tracadie\, Nouveau-Brunswick\, E1X 1G5\, Canada
ATTACH;FMTTYPE=image/png:https://calendrier.tracadienb.ca/wp-content/uploads/1er-Marche-de-la-saison-16.png
ORGANIZER;CN="%C3%89v%C3%A9nement Tracadie":MAILTO:info@tracadienb.ca
END:VEVENT
BEGIN:VEVENT
DTSTART;TZID=America/Moncton:20250728T140000
DTEND;TZID=America/Moncton:20250728T160000
DTSTAMP:20260424T212849
CREATED:20250722T162214Z
LAST-MODIFIED:20250722T162214Z
UID:10001944-1753711200-1753718400@calendrier.tracadienb.ca
SUMMARY:Atelier Tie Dye
DESCRIPTION:🌈 Atelier Tie-Dye au Marché Centre-Ville ! 🎨👕Viens mettre de la couleur dans ta journée avec notre atelier créatif de Tie-Dye !Une activité amusante et parfaite pour tous les âges – repartez avec votre propre création unique ! ✨ \n📍 Ça se passe au Marché Centre-Ville – ne manquez pas ça !🎉 Couleurs\, sourires et plaisir garantis !
URL:https://calendrier.tracadienb.ca/evenement/atelier-tie-dye/
LOCATION:Marché champêtre de Tracadie\, 3416 rue Principale\, Tracadie\, Nouveau-Brunswick\, E1X 1G5\, Canada
CATEGORIES:Activités
ATTACH;FMTTYPE=image/png:https://calendrier.tracadienb.ca/wp-content/uploads/1er-Marche-de-la-saison-14.png
ORGANIZER;CN="%C3%89v%C3%A9nement Tracadie":MAILTO:info@tracadienb.ca
END:VEVENT
BEGIN:VEVENT
DTSTART;TZID=America/Moncton:20250727T130000
DTEND;TZID=America/Moncton:20250727T150000
DTSTAMP:20260424T212849
CREATED:20250722T161946Z
LAST-MODIFIED:20250722T161946Z
UID:10001943-1753621200-1753628400@calendrier.tracadienb.ca
SUMMARY:Journée H2O
DESCRIPTION:💦 Journée H2O – Plongez dans le plaisir ! 🌊☀️\nUne journée rafraîchissante vous attend avec des jeux d’eau et des petites piscines pour les enfants et les ados ! \n🩱 N’oubliez pas vos maillots et vos serviettes de plage – ça va éclabousser de fun ! \nVenez vous amuser et vous rafraîchir !
URL:https://calendrier.tracadienb.ca/evenement/journee-h2o/
LOCATION:Marché champêtre de Tracadie\, 3416 rue Principale\, Tracadie\, Nouveau-Brunswick\, E1X 1G5\, Canada
CATEGORIES:Activités
ATTACH;FMTTYPE=image/png:https://calendrier.tracadienb.ca/wp-content/uploads/1er-Marche-de-la-saison-13.png
ORGANIZER;CN="%C3%89v%C3%A9nement Tracadie":MAILTO:info@tracadienb.ca
END:VEVENT
BEGIN:VEVENT
DTSTART;TZID=America/Moncton:20250727T100000
DTEND;TZID=America/Moncton:20250727T170000
DTSTAMP:20260424T212849
CREATED:20250722T141942Z
LAST-MODIFIED:20250723T164148Z
UID:10001941-1753610400-1753635600@calendrier.tracadienb.ca
SUMMARY:Taebo
DESCRIPTION: TAEBO !\n\nQue vous soyez débutant ou habitué\, cette activité est parfaite pour faire le plein d’énergie tout en vous amusant !\nVenez bouger\, transpirer et vous dépasser dans une ambiance motivante et accessible à tous ! \n\n En solo\, entre amis ou en famille – tout le monde est le bienvenu !\nOn vous attend pour faire le plein de bonnes vibes !
URL:https://calendrier.tracadienb.ca/evenement/taebo/
LOCATION:Marché champêtre de Tracadie\, 3416 rue Principale\, Tracadie\, Nouveau-Brunswick\, E1X 1G5\, Canada
CATEGORIES:Activités,Sports
ATTACH;FMTTYPE=image/jpeg:https://calendrier.tracadienb.ca/wp-content/uploads/1er-Marche-de-la-saison-3.jpg
ORGANIZER;CN="%C3%89v%C3%A9nement Tracadie":MAILTO:info@tracadienb.ca
END:VEVENT
BEGIN:VEVENT
DTSTART;TZID=America/Moncton:20250726T080000
DTEND;TZID=America/Moncton:20250726T130000
DTSTAMP:20260424T212849
CREATED:20250703T185717Z
LAST-MODIFIED:20250703T185717Z
UID:10000024-1753516800-1753534800@calendrier.tracadienb.ca
SUMMARY:Marché Champêtre de Tracadie
DESCRIPTION:Un lieu de rencontre\, d’échange et de saveurs locales. \nLe Marché de Tracadie est un espace convivial qui valorise les produits du terroir et met en lumière la créativité des gens de la région. \nRetrouvez-nous tous les samedis de 8 h à 13 h pendant la saison estivale.Producteurs\, artisans et créateurs vous y attendent avec le meilleur de chez nous.
URL:https://calendrier.tracadienb.ca/evenement/marche-champetre-de-tracadie/2025-07-26/
LOCATION:Marché champêtre de Tracadie\, 3416 rue Principale\, Tracadie\, Nouveau-Brunswick\, E1X 1G5\, Canada
CATEGORIES:Activités
ATTACH;FMTTYPE=image/png:https://calendrier.tracadienb.ca/wp-content/uploads/1er-Marche-de-la-saison-7.png
ORGANIZER;CN="%C3%89v%C3%A9nement Tracadie":MAILTO:info@tracadienb.ca
END:VEVENT
BEGIN:VEVENT
DTSTART;TZID=America/Moncton:20250723T190000
DTEND;TZID=America/Moncton:20250723T220000
DTSTAMP:20260424T212849
CREATED:20250722T175247Z
LAST-MODIFIED:20250722T175306Z
UID:10001951-1753297200-1753308000@calendrier.tracadienb.ca
SUMMARY:Mercredi Acadien
DESCRIPTION:23 juillet 2025🔵⚪️🔴\nDès 19h\, venez chanter\, danser et célébrer avec nous ! \n🎶 Sur scène : Aurélia Breau et Laura Thibodeau– deux artistes d’ici qui promettent une soirée mémorable ! \n🥳 Ambiance festive\, bonne musique\, et plaisir garanti !\n🍔 Cantine sur place ($) \nApportez votre chaise… et votre bonne humeur !
URL:https://calendrier.tracadienb.ca/evenement/mercredi-acadien/
LOCATION:Marché champêtre de Tracadie\, 3416 rue Principale\, Tracadie\, Nouveau-Brunswick\, E1X 1G5\, Canada
CATEGORIES:Activités,Spectacles
ATTACH;FMTTYPE=image/png:https://calendrier.tracadienb.ca/wp-content/uploads/Mercredi-acadien-23-juillet-2025.png
ORGANIZER;CN="%C3%89v%C3%A9nement Tracadie":MAILTO:info@tracadienb.ca
END:VEVENT
BEGIN:VEVENT
DTSTART;TZID=America/Moncton:20250719T080000
DTEND;TZID=America/Moncton:20250719T130000
DTSTAMP:20260424T212849
CREATED:20250703T185717Z
LAST-MODIFIED:20250703T185717Z
UID:10000023-1752912000-1752930000@calendrier.tracadienb.ca
SUMMARY:Marché Champêtre de Tracadie
DESCRIPTION:Un lieu de rencontre\, d’échange et de saveurs locales. \nLe Marché de Tracadie est un espace convivial qui valorise les produits du terroir et met en lumière la créativité des gens de la région. \nRetrouvez-nous tous les samedis de 8 h à 13 h pendant la saison estivale.Producteurs\, artisans et créateurs vous y attendent avec le meilleur de chez nous.
URL:https://calendrier.tracadienb.ca/evenement/marche-champetre-de-tracadie/2025-07-19/
LOCATION:Marché champêtre de Tracadie\, 3416 rue Principale\, Tracadie\, Nouveau-Brunswick\, E1X 1G5\, Canada
CATEGORIES:Activités
ATTACH;FMTTYPE=image/png:https://calendrier.tracadienb.ca/wp-content/uploads/1er-Marche-de-la-saison-7.png
ORGANIZER;CN="%C3%89v%C3%A9nement Tracadie":MAILTO:info@tracadienb.ca
END:VEVENT
BEGIN:VEVENT
DTSTART;TZID=America/Moncton:20250712T080000
DTEND;TZID=America/Moncton:20250712T130000
DTSTAMP:20260424T212849
CREATED:20250703T185717Z
LAST-MODIFIED:20250703T185717Z
UID:10000022-1752307200-1752325200@calendrier.tracadienb.ca
SUMMARY:Marché Champêtre de Tracadie
DESCRIPTION:Un lieu de rencontre\, d’échange et de saveurs locales. \nLe Marché de Tracadie est un espace convivial qui valorise les produits du terroir et met en lumière la créativité des gens de la région. \nRetrouvez-nous tous les samedis de 8 h à 13 h pendant la saison estivale.Producteurs\, artisans et créateurs vous y attendent avec le meilleur de chez nous.
URL:https://calendrier.tracadienb.ca/evenement/marche-champetre-de-tracadie/2025-07-12/
LOCATION:Marché champêtre de Tracadie\, 3416 rue Principale\, Tracadie\, Nouveau-Brunswick\, E1X 1G5\, Canada
CATEGORIES:Activités
ATTACH;FMTTYPE=image/png:https://calendrier.tracadienb.ca/wp-content/uploads/1er-Marche-de-la-saison-7.png
ORGANIZER;CN="%C3%89v%C3%A9nement Tracadie":MAILTO:info@tracadienb.ca
END:VEVENT
BEGIN:VEVENT
DTSTART;TZID=America/Moncton:20250705T080000
DTEND;TZID=America/Moncton:20250705T130000
DTSTAMP:20260424T212849
CREATED:20250703T185717Z
LAST-MODIFIED:20250703T185717Z
UID:10000021-1751702400-1751720400@calendrier.tracadienb.ca
SUMMARY:Marché Champêtre de Tracadie
DESCRIPTION:Un lieu de rencontre\, d’échange et de saveurs locales. \nLe Marché de Tracadie est un espace convivial qui valorise les produits du terroir et met en lumière la créativité des gens de la région. \nRetrouvez-nous tous les samedis de 8 h à 13 h pendant la saison estivale.Producteurs\, artisans et créateurs vous y attendent avec le meilleur de chez nous.
URL:https://calendrier.tracadienb.ca/evenement/marche-champetre-de-tracadie/2025-07-05/
LOCATION:Marché champêtre de Tracadie\, 3416 rue Principale\, Tracadie\, Nouveau-Brunswick\, E1X 1G5\, Canada
CATEGORIES:Activités
ATTACH;FMTTYPE=image/png:https://calendrier.tracadienb.ca/wp-content/uploads/1er-Marche-de-la-saison-7.png
ORGANIZER;CN="%C3%89v%C3%A9nement Tracadie":MAILTO:info@tracadienb.ca
END:VEVENT
BEGIN:VEVENT
DTSTART;TZID=America/Moncton:20250701T110000
DTEND;TZID=America/Moncton:20250701T220000
DTSTAMP:20260424T212849
CREATED:20250618T173938Z
LAST-MODIFIED:20250626T190410Z
UID:10000002-1751367600-1751407200@calendrier.tracadienb.ca
SUMMARY:Fête du Canada à Tracadie
DESCRIPTION:La Fête du Canada à Tracadie! \n\nUne journée qui sera remplie d’activités pour la famille et entre amis.\n Marché Centre-Ville de Tracadie  1er juillet 2025\n\nToutes les activités sont gratuites.
URL:https://calendrier.tracadienb.ca/evenement/fete-du-canada-a-tracadie/
LOCATION:Marché champêtre de Tracadie\, 3416 rue Principale\, Tracadie\, Nouveau-Brunswick\, E1X 1G5\, Canada
CATEGORIES:Activités
ATTACH;FMTTYPE=image/jpeg:https://calendrier.tracadienb.ca/wp-content/uploads/fete-du-canada-tracadie.jpg
ORGANIZER;CN="%C3%89v%C3%A9nement Tracadie":MAILTO:info@tracadienb.ca
END:VEVENT
END:VCALENDAR